BEGIN:VCALENDAR
VERSION:2.0
PRODID:-//time.now/holidays//NONSGML v1.0//EN
BEGIN:VEVENT
UID:af99fa8d-a578-4ea2-aede-b6a9a57fc921
DTSTAMP:20260420T153513Z
DTSTART;VALUE=DATE:20271115
SUMMARY:Jharkhand Formation Day (Inde)
END:VEVENT
END:VCALENDAR