BEGIN:VCALENDAR
VERSION:2.0
PRODID:-//time.now/holidays//NONSGML v1.0//EN
BEGIN:VEVENT
UID:941f8805-24c9-4214-b370-771e80f551e2
DTSTAMP:20260420T195958Z
DTSTART;VALUE=DATE:20271114
SUMMARY:Guru Nanak Jayanti (Inde)
END:VEVENT
END:VCALENDAR