BEGIN:VCALENDAR
VERSION:2.0
PRODID:-//time.now/holidays//NONSGML v1.0//EN
BEGIN:VEVENT
UID:6a74ca16-bb25-43c5-af56-8ac2866d10b5
DTSTAMP:20260420T230908Z
DTSTART;VALUE=DATE:20351115
SUMMARY:Guru Nanak Jayanti; Jharkhand Formation Day (Inde)
END:VEVENT
END:VCALENDAR