BEGIN:VCALENDAR
VERSION:2.0
PRODID:-//time.now/holidays//NONSGML v1.0//EN
BEGIN:VEVENT
UID:3a682c50-dabb-49a4-b9f6-756d5f946c94
DTSTAMP:20260423T030257Z
DTSTART;VALUE=DATE:20270115
SUMMARY:Guru Gobind Singh Jayanti (Inde)
END:VEVENT
END:VCALENDAR