BEGIN:VCALENDAR
VERSION:2.0
PRODID:-//time.now/holidays//NONSGML v1.0//EN
BEGIN:VEVENT
UID:11762172-8a7a-49ef-ae1e-8c84a347aa39
DTSTAMP:20260420T105854Z
DTSTART;VALUE=DATE:20270501
SUMMARY:Gujarat Day (Inde)
END:VEVENT
END:VCALENDAR