BEGIN:VCALENDAR
VERSION:2.0
PRODID:-//time.now/holidays//NONSGML v1.0//EN
BEGIN:VEVENT
UID:0b5d9752-0200-484b-9361-a1f29d2dea31
DTSTAMP:20260420T102442Z
DTSTART;VALUE=DATE:20330415
SUMMARY:Good Friday; Himachal Day (Inde)
END:VEVENT
END:VCALENDAR