BEGIN:VCALENDAR
VERSION:2.0
PRODID:-//time.now/holidays//NONSGML v1.0//EN
BEGIN:VEVENT
UID:8b3f8d85-6421-4044-85fa-e74857b5bdaa
DTSTAMP:20260420T175043Z
DTSTART;VALUE=DATE:20261002
SUMMARY:Gandhi Jayanti (Inde)
END:VEVENT
END:VCALENDAR