BEGIN:VCALENDAR
VERSION:2.0
PRODID:-//time.now/holidays//NONSGML v1.0//EN
BEGIN:VEVENT
UID:53837040-67b9-4ff3-b185-8cba8c189e56
DTSTAMP:20260422T091911Z
DTSTART;VALUE=DATE:20220414
SUMMARY:Dr. B. R. Ambedkar's Jayanti; Mahavir Jayanti (Inde)
END:VEVENT
END:VCALENDAR