BEGIN:VCALENDAR
VERSION:2.0
PRODID:-//time.now/holidays//NONSGML v1.0//EN
BEGIN:VEVENT
UID:e633c6fa-c29e-4cf2-b6c6-089eb55453ab
DTSTAMP:20260420T110941Z
DTSTART;VALUE=DATE:20261101
SUMMARY:Chhattisgarh Foundation Day (Inde)
END:VEVENT
END:VCALENDAR