BEGIN:VCALENDAR
VERSION:2.0
PRODID:-//time.now/holidays//NONSGML v1.0//EN
BEGIN:VEVENT
UID:c25ba9f8-f5d1-467a-a721-e1b1d6ed44cb
DTSTAMP:20260422T084113Z
DTSTART;VALUE=DATE:20260219
SUMMARY:Chhatrapati Shivaji Maharaj Jayanti (Inde)
END:VEVENT
END:VCALENDAR