BEGIN:VCALENDAR
VERSION:2.0
PRODID:-//time.now/holidays//NONSGML v1.0//EN
BEGIN:VEVENT
UID:a44377c6-872b-4fbf-9603-5c4a7c510254
DTSTAMP:20260420T055512Z
DTSTART;VALUE=DATE:20261115
SUMMARY:Chhath Puja (Inde)
END:VEVENT
END:VCALENDAR