BEGIN:VCALENDAR
VERSION:2.0
PRODID:-//time.now/holidays//NONSGML v1.0//EN
BEGIN:VEVENT
UID:15362e20-9d34-47fb-8f48-04b0a7cbb0eb
DTSTAMP:20260420T204112Z
DTSTART;VALUE=DATE:20261006
SUMMARY:Bathukamma Festival (Inde)
END:VEVENT
END:VCALENDAR