BEGIN:VCALENDAR
VERSION:2.0
PRODID:-//time.now/holidays//NONSGML v1.0//EN
BEGIN:VEVENT
UID:eb21d6a2-3a85-469c-ba4e-c434736c0f4f
DTSTAMP:20260420T134820Z
DTSTART;VALUE=DATE:20260625
SUMMARY:Ashura (estimated) (Inde)
END:VEVENT
END:VCALENDAR