BEGIN:VCALENDAR
VERSION:2.0
PRODID:-//time.now/holidays//NONSGML v1.0//EN
BEGIN:VEVENT
UID:44e10126-9519-4b05-b2b3-e419a4caafc1
DTSTAMP:20260420T173353Z
DTSTART;VALUE=DATE:20261101
SUMMARY:Andhra Pradesh Foundation Day (Inde)
END:VEVENT
END:VCALENDAR