BEGIN:VCALENDAR
VERSION:2.0
PRODID:-//time.now/holidays//NONSGML v1.0//EN
BEGIN:VEVENT
UID:a23d00ef-9f7b-4782-af95-e4bae8b5d470
DTSTAMP:20260420T143837Z
DTSTART;VALUE=DATE:20260514
SUMMARY:Ascension Day (Islande)
END:VEVENT
END:VCALENDAR