BEGIN:VCALENDAR
VERSION:2.0
PRODID:-//time.now/holidays//NONSGML v1.0//EN
BEGIN:VEVENT
UID:e861f02c-5e20-422d-9311-997ca40ed654
DTSTAMP:20260420T064929Z
DTSTART;VALUE=DATE:20260820
SUMMARY:State Foundation Day (Hongrie)
END:VEVENT
END:VCALENDAR