BEGIN:VCALENDAR
VERSION:2.0
PRODID:-//time.now/holidays//NONSGML v1.0//EN
BEGIN:VEVENT
UID:25755976-3e1d-4942-b75b-fdee83e75bd9
DTSTAMP:20260420T060117Z
DTSTART;VALUE=DATE:20260501
SUMMARY:Labor Day (Hongrie)
END:VEVENT
END:VCALENDAR