BEGIN:VCALENDAR
VERSION:2.0
PRODID:-//time.now/holidays//NONSGML v1.0//EN
BEGIN:VEVENT
UID:d90d4029-cef4-49f2-ac2b-70a072a01a0b
DTSTAMP:20260419T120216Z
DTSTART;VALUE=DATE:20260405
SUMMARY:Easter (Hongrie)
END:VEVENT
END:VCALENDAR