BEGIN:VCALENDAR
VERSION:2.0
PRODID:-//time.now/holidays//NONSGML v1.0//EN
BEGIN:VEVENT
UID:ce297678-335e-4841-a0d2-a8ca0a44c7d0
DTSTAMP:20260420T162444Z
DTSTART;VALUE=DATE:20221031
SUMMARY:Day off (substituted from 10/15/2022) (Hongrie)
END:VEVENT
END:VCALENDAR