BEGIN:VCALENDAR
VERSION:2.0
PRODID:-//time.now/holidays//NONSGML v1.0//EN
BEGIN:VEVENT
UID:cdee29b0-e799-4bc8-949e-0657852441ab
DTSTAMP:20260420T142126Z
DTSTART;VALUE=DATE:20240819
SUMMARY:Day off (substituted from 08/03/2024) (Hongrie)
END:VEVENT
END:VCALENDAR