BEGIN:VCALENDAR
VERSION:2.0
PRODID:-//time.now/holidays//NONSGML v1.0//EN
BEGIN:VEVENT
UID:47764ff6-0fab-4482-b178-61d7c1ee0dec
DTSTAMP:20260420T135305Z
DTSTART;VALUE=DATE:20261225
SUMMARY:Christmas Day (Hongrie)
END:VEVENT
END:VCALENDAR