BEGIN:VCALENDAR
VERSION:2.0
PRODID:-//time.now/holidays//NONSGML v1.0//EN
BEGIN:VEVENT
UID:93533560-370d-4474-9e1f-41bc809a2961
DTSTAMP:20260420T215211Z
DTSTART;VALUE=DATE:20260407
SUMMARY:Tomb-Sweeping Day (observed) (Hong Kong)
END:VEVENT
END:VCALENDAR