BEGIN:VCALENDAR
VERSION:2.0
PRODID:-//time.now/holidays//NONSGML v1.0//EN
BEGIN:VEVENT
UID:d215ba56-bc26-4104-96d3-5bcb5a2484ef
DTSTAMP:20260420T095430Z
DTSTART;VALUE=DATE:20260406
SUMMARY:Easter Monday (Hong Kong)
END:VEVENT
END:VCALENDAR