BEGIN:VCALENDAR
VERSION:2.0
PRODID:-//time.now/holidays//NONSGML v1.0//EN
BEGIN:VEVENT
UID:24eefbcd-cdd4-4c4f-9178-b04744aa8aee
DTSTAMP:20260422T092146Z
DTSTART;VALUE=DATE:20261018
SUMMARY:Double Ninth Festival (Hong Kong)
END:VEVENT
END:VCALENDAR