BEGIN:VCALENDAR
VERSION:2.0
PRODID:-//time.now/holidays//NONSGML v1.0//EN
BEGIN:VEVENT
UID:e22ccbc1-4cde-48f6-a3e9-c11f4bf8463d
DTSTAMP:20260420T153234Z
DTSTART;VALUE=DATE:20260414
SUMMARY:Panamerican Day (Honduras)
END:VEVENT
END:VCALENDAR