BEGIN:VCALENDAR
VERSION:2.0
PRODID:-//time.now/holidays//NONSGML v1.0//EN
BEGIN:VEVENT
UID:ac62a86d-4f8b-4cfb-94b9-8b41d1633027
DTSTAMP:20260422T193238Z
DTSTART;VALUE=DATE:20330414
SUMMARY:Maundy Thursday; Panamerican Day (Honduras)
END:VEVENT
END:VCALENDAR