BEGIN:VCALENDAR
VERSION:2.0
PRODID:-//time.now/holidays//NONSGML v1.0//EN
BEGIN:VEVENT
UID:010def86-b9ee-4aed-841c-6b31199e6ff6
DTSTAMP:20260420T190315Z
DTSTART;VALUE=DATE:20260404
SUMMARY:Holy Saturday (Honduras)
END:VEVENT
END:VCALENDAR