BEGIN:VCALENDAR
VERSION:2.0
PRODID:-//time.now/holidays//NONSGML v1.0//EN
BEGIN:VEVENT
UID:af920c51-1425-48fa-be22-82184345456e
DTSTAMP:20260420T152441Z
DTSTART;VALUE=DATE:20261225
SUMMARY:Christmas Day (Honduras)
END:VEVENT
END:VCALENDAR