BEGIN:VCALENDAR
VERSION:2.0
PRODID:-//time.now/holidays//NONSGML v1.0//EN
BEGIN:VEVENT
UID:311ae165-e51a-4cd9-8f58-520281949e47
DTSTAMP:20260420T230909Z
DTSTART;VALUE=DATE:20260101
SUMMARY:National Independence Day; New Year's Day (Haïti)
END:VEVENT
END:VCALENDAR