BEGIN:VCALENDAR
VERSION:2.0
PRODID:-//time.now/holidays//NONSGML v1.0//EN
BEGIN:VEVENT
UID:46122e2b-dc0e-4062-b73f-08f38a3fa31d
DTSTAMP:20260420T154457Z
DTSTART;VALUE=DATE:20260217
SUMMARY:Fat Tuesday (Haïti)
END:VEVENT
END:VCALENDAR