BEGIN:VCALENDAR
VERSION:2.0
PRODID:-//time.now/holidays//NONSGML v1.0//EN
BEGIN:VEVENT
UID:0912bb43-cf39-4c3b-b49f-fdb0b02ffa42
DTSTAMP:20260422T193851Z
DTSTART;VALUE=DATE:20261017
SUMMARY:Death of Dessalines (Haïti)
END:VEVENT
END:VCALENDAR