BEGIN:VCALENDAR
VERSION:2.0
PRODID:-//time.now/holidays//NONSGML v1.0//EN
BEGIN:VEVENT
UID:13f796d2-e2bc-47f3-8c9f-26e7efdc49ea
DTSTAMP:20260422T090951Z
DTSTART;VALUE=DATE:20261102
SUMMARY:Day of the Dead (Haïti)
END:VEVENT
END:VCALENDAR