BEGIN:VCALENDAR
VERSION:2.0
PRODID:-//time.now/holidays//NONSGML v1.0//EN
BEGIN:VEVENT
UID:5a44eb7a-998e-46c3-95d3-a4b706018b5c
DTSTAMP:20260420T083006Z
DTSTART;VALUE=DATE:20260604
SUMMARY:Corpus Christi (Haïti)
END:VEVENT
END:VCALENDAR