BEGIN:VCALENDAR
VERSION:2.0
PRODID:-//time.now/holidays//NONSGML v1.0//EN
BEGIN:VEVENT
UID:616da414-761e-4743-9cfd-a9988f31ddc5
DTSTAMP:20260421T024301Z
DTSTART;VALUE=DATE:20261118
SUMMARY:Armed Forces Day; Commemoration of the Battle of Vertieres (Haïti)
END:VEVENT
END:VCALENDAR