BEGIN:VCALENDAR
VERSION:2.0
PRODID:-//time.now/holidays//NONSGML v1.0//EN
BEGIN:VEVENT
UID:77e1eafd-48be-47c0-bc2f-0d11cb42d6bf
DTSTAMP:20260420T190913Z
DTSTART;VALUE=DATE:20261101
SUMMARY:All Saints' Day (Haïti)
END:VEVENT
END:VCALENDAR