BEGIN:VCALENDAR
VERSION:2.0
PRODID:-//time.now/holidays//NONSGML v1.0//EN
BEGIN:VEVENT
UID:162478b4-bafb-4e2a-a993-f10d0402b562
DTSTAMP:20260420T120727Z
DTSTART;VALUE=DATE:20260101
SUMMARY:New Year's Day (Guyana)
END:VEVENT
END:VCALENDAR