BEGIN:VCALENDAR
VERSION:2.0
PRODID:-//time.now/holidays//NONSGML v1.0//EN
BEGIN:VEVENT
UID:7862acd7-0a1a-4802-b401-794ffef13df1
DTSTAMP:20260420T042130Z
DTSTART;VALUE=DATE:20260403
SUMMARY:Good Friday (Guyana)
END:VEVENT
END:VCALENDAR