BEGIN:VCALENDAR
VERSION:2.0
PRODID:-//time.now/holidays//NONSGML v1.0//EN
BEGIN:VEVENT
UID:bf56ba9f-dac5-4a66-931f-b640bf1d3596
DTSTAMP:20260420T000955Z
DTSTART;VALUE=DATE:20260801
SUMMARY:Emancipation Day (Guyana)
END:VEVENT
END:VCALENDAR