BEGIN:VCALENDAR
VERSION:2.0
PRODID:-//time.now/holidays//NONSGML v1.0//EN
BEGIN:VEVENT
UID:e69e7509-ab92-47b6-91fa-4304062d8b09
DTSTAMP:20260420T044721Z
DTSTART;VALUE=DATE:20270802
SUMMARY:Emancipation Day (observed) (Guyana)
END:VEVENT
END:VCALENDAR