BEGIN:VCALENDAR
VERSION:2.0
PRODID:-//time.now/holidays//NONSGML v1.0//EN
BEGIN:VEVENT
UID:aa80db98-d8f3-4485-89d7-d93bffda5198
DTSTAMP:20260420T033628Z
DTSTART;VALUE=DATE:20261002
SUMMARY:Independence Day (Guinée)
END:VEVENT
END:VCALENDAR