BEGIN:VCALENDAR
VERSION:2.0
PRODID:-//time.now/holidays//NONSGML v1.0//EN
BEGIN:VEVENT
UID:5f085043-7028-4812-942d-57afc7787a3d
DTSTAMP:20260420T051057Z
DTSTART;VALUE=DATE:20250331
SUMMARY:Eid al-Fitr (Guinée)
END:VEVENT
END:VCALENDAR