BEGIN:VCALENDAR
VERSION:2.0
PRODID:-//time.now/holidays//NONSGML v1.0//EN
BEGIN:VEVENT
UID:7800ad94-a3ce-44da-9917-4f3116c8112a
DTSTAMP:20260420T031945Z
DTSTART;VALUE=DATE:20260815
SUMMARY:Assumption Day (Guinée)
END:VEVENT
END:VCALENDAR