BEGIN:VCALENDAR
VERSION:2.0
PRODID:-//time.now/holidays//NONSGML v1.0//EN
BEGIN:VEVENT
UID:ab8fa8ad-0672-47f3-978b-95f4e0cf5d2e
DTSTAMP:20260420T170042Z
DTSTART;VALUE=DATE:20260525
SUMMARY:Africa Day (Guinée)
END:VEVENT
END:VCALENDAR