BEGIN:VCALENDAR
VERSION:2.0
PRODID:-//time.now/holidays//NONSGML v1.0//EN
BEGIN:VEVENT
UID:946802e8-b363-4439-9c20-e7e28e0de128
DTSTAMP:20260420T214832Z
DTSTART;VALUE=DATE:20260831
SUMMARY:Summer Bank Holiday (Guernesey)
END:VEVENT
END:VCALENDAR