BEGIN:VCALENDAR
VERSION:2.0
PRODID:-//time.now/holidays//NONSGML v1.0//EN
BEGIN:VEVENT
UID:072d3d20-95b2-46e2-a87c-fed16a89fb99
DTSTAMP:20260420T183537Z
DTSTART;VALUE=DATE:20260525
SUMMARY:Spring Bank Holiday (Guernesey)
END:VEVENT
END:VCALENDAR