BEGIN:VCALENDAR
VERSION:2.0
PRODID:-//time.now/holidays//NONSGML v1.0//EN
BEGIN:VEVENT
UID:ac032583-ef4f-4f88-8801-e975e718eeca
DTSTAMP:20260420T230906Z
DTSTART;VALUE=DATE:20220603
SUMMARY:Queen's Platinum Jubilee Bank Holiday (Guernesey)
END:VEVENT
END:VCALENDAR