BEGIN:VCALENDAR
VERSION:2.0
PRODID:-//time.now/holidays//NONSGML v1.0//EN
BEGIN:VEVENT
UID:98200cde-30c4-4ed8-a2fb-9abb30bb07d9
DTSTAMP:20260422T222055Z
DTSTART;VALUE=DATE:20260101
SUMMARY:New Year's Day (Guernesey)
END:VEVENT
END:VCALENDAR