BEGIN:VCALENDAR
VERSION:2.0
PRODID:-//time.now/holidays//NONSGML v1.0//EN
BEGIN:VEVENT
UID:545cea88-fe78-41f9-9331-951fb22efa31
DTSTAMP:20260420T214542Z
DTSTART;VALUE=DATE:20280103
SUMMARY:New Year's Day (substitute day) (Guernesey)
END:VEVENT
END:VCALENDAR