BEGIN:VCALENDAR
VERSION:2.0
PRODID:-//time.now/holidays//NONSGML v1.0//EN
BEGIN:VEVENT
UID:38f384da-e317-4a92-87c6-fe3b94b74258
DTSTAMP:20260421T005447Z
DTSTART;VALUE=DATE:20230508
SUMMARY:Extra Public Holiday for the Coronation of King Charles III (Guernesey)
END:VEVENT
END:VCALENDAR