BEGIN:VCALENDAR
VERSION:2.0
PRODID:-//time.now/holidays//NONSGML v1.0//EN
BEGIN:VEVENT
UID:5ae7b6b3-071d-4a58-bde0-25384a7a6f70
DTSTAMP:20260420T105330Z
DTSTART;VALUE=DATE:20261226
SUMMARY:Boxing Day (Guernesey)
END:VEVENT
END:VCALENDAR